BEGIN:VCALENDAR
VERSION:2.0
PRODID:-//Globe Media Group - ECPv6.15.17.1//NONSGML v1.0//EN
CALSCALE:GREGORIAN
METHOD:PUBLISH
X-WR-CALNAME:Globe Media Group
X-ORIGINAL-URL:https://globemediagroup.ca
X-WR-CALDESC:Events for Globe Media Group
REFRESH-INTERVAL;VALUE=DURATION:PT1H
X-Robots-Tag:noindex
X-PUBLISHED-TTL:PT1H
BEGIN:VTIMEZONE
TZID:America/Toronto
BEGIN:DAYLIGHT
TZOFFSETFROM:-0500
TZOFFSETTO:-0400
TZNAME:EDT
DTSTART:20240310T070000
END:DAYLIGHT
BEGIN:STANDARD
TZOFFSETFROM:-0400
TZOFFSETTO:-0500
TZNAME:EST
DTSTART:20241103T060000
END:STANDARD
BEGIN:DAYLIGHT
TZOFFSETFROM:-0500
TZOFFSETTO:-0400
TZNAME:EDT
DTSTART:20250309T070000
END:DAYLIGHT
BEGIN:STANDARD
TZOFFSETFROM:-0400
TZOFFSETTO:-0500
TZNAME:EST
DTSTART:20251102T060000
END:STANDARD
BEGIN:DAYLIGHT
TZOFFSETFROM:-0500
TZOFFSETTO:-0400
TZNAME:EDT
DTSTART:20260308T070000
END:DAYLIGHT
BEGIN:STANDARD
TZOFFSETFROM:-0400
TZOFFSETTO:-0500
TZNAME:EST
DTSTART:20261101T060000
END:STANDARD
BEGIN:DAYLIGHT
TZOFFSETFROM:-0500
TZOFFSETTO:-0400
TZNAME:EDT
DTSTART:20270314T070000
END:DAYLIGHT
BEGIN:STANDARD
TZOFFSETFROM:-0400
TZOFFSETTO:-0500
TZNAME:EST
DTSTART:20271107T060000
END:STANDARD
END:VTIMEZONE
BEGIN:VEVENT
DTSTART;VALUE=DATE:20260205
DTEND;VALUE=DATE:20260206
DTSTAMP:20260424T223819
CREATED:20251002T143940Z
LAST-MODIFIED:20251002T143952Z
UID:115370-1770249600-1770335999@globemediagroup.ca
SUMMARY:FUTURE PROOFING SMALL BUSINESS
DESCRIPTION:Future Proofing Small Business is a report series to help entrepreneurs navigate uncertainty and identify opportunities.
URL:https://globemediagroup.ca/opportunity/future-proofing-small-business-5/
LOCATION:National
CATEGORIES:Business
END:VEVENT
BEGIN:VEVENT
DTSTART;VALUE=DATE:20260130
DTEND;VALUE=DATE:20260131
DTSTAMP:20260424T223819
CREATED:20260202T164734Z
LAST-MODIFIED:20260202T164734Z
UID:117444-1769731200-1769817599@globemediagroup.ca
SUMMARY:Commitment to Reconciliation
DESCRIPTION:This special feature will explore innovative partnerships\, and community-driven initiatives that foster reconciliation & strengthen relationships \n 
URL:https://globemediagroup.ca/opportunity/commitment-to-reconciliation/
CATEGORIES:Business,Education
END:VEVENT
BEGIN:VEVENT
DTSTART;VALUE=DATE:20260128
DTEND;VALUE=DATE:20260129
DTSTAMP:20260424T223819
CREATED:20251002T183022Z
LAST-MODIFIED:20251002T183022Z
UID:115430-1769558400-1769644799@globemediagroup.ca
SUMMARY:POWERING CANADA’S FUTURE: Oil and Gas
DESCRIPTION:This report examines traditional energy sources that remain essential\, even as policies and global markets evolve.
URL:https://globemediagroup.ca/opportunity/powering-canadas-future-oil-and-gas/
LOCATION:National
CATEGORIES:Business,Resources, Utilities and Environment
END:VEVENT
BEGIN:VEVENT
DTSTART;VALUE=DATE:20260128
DTEND;VALUE=DATE:20260129
DTSTAMP:20260424T223819
CREATED:20250925T175711Z
LAST-MODIFIED:20260127T185554Z
UID:115258-1769558400-1769644799@globemediagroup.ca
SUMMARY:Expanding Markets for Canadian Food
DESCRIPTION:This special feature will spotlight the strategies shaping Canada’s trade future and the opportunities available for the sector to thrive
URL:https://globemediagroup.ca/opportunity/expanding-markets-for-canadian-food/
LOCATION:National
CATEGORIES:Business,Canada Strong,Economic Development
END:VEVENT
BEGIN:VEVENT
DTSTART;VALUE=DATE:20260127
DTEND;VALUE=DATE:20260128
DTSTAMP:20260424T223819
CREATED:20251125T213353Z
LAST-MODIFIED:20260127T185555Z
UID:116213-1769472000-1769558399@globemediagroup.ca
SUMMARY:BUILDING A BETTER CANADA
DESCRIPTION:This special feature will explore how large-scale investments are reshaping Canada’s economy and positioning the country for long-term prosperity.
URL:https://globemediagroup.ca/opportunity/building-a-better-canada/
CATEGORIES:Business,Canada Strong,Economic Development,Resources, Utilities and Environment
END:VEVENT
BEGIN:VEVENT
DTSTART;VALUE=DATE:20260121
DTEND;VALUE=DATE:20260122
DTSTAMP:20260424T223819
CREATED:20251022T212304Z
LAST-MODIFIED:20251022T212304Z
UID:115932-1768953600-1769039999@globemediagroup.ca
SUMMARY:INNOVATIVE INSURANCE SOLUTIONS
DESCRIPTION:A report highlighting innovative insurance solutions
URL:https://globemediagroup.ca/opportunity/innovative-insurance-solutions/
LOCATION:National
CATEGORIES:Business
END:VEVENT
BEGIN:VEVENT
DTSTART;VALUE=DATE:20260116
DTEND;VALUE=DATE:20260117
DTSTAMP:20260424T223819
CREATED:20251023T144119Z
LAST-MODIFIED:20251119T073148Z
UID:115947-1768521600-1768607999@globemediagroup.ca
SUMMARY:Strategic Wealth Management
DESCRIPTION:A special feature that will highlight how wealth management is evolving
URL:https://globemediagroup.ca/opportunity/strategic-wealth-management-2/
LOCATION:National
CATEGORIES:Business
END:VEVENT
BEGIN:VEVENT
DTSTART;VALUE=DATE:20260116
DTEND;VALUE=DATE:20260117
DTSTAMP:20260424T223819
CREATED:20250707T191404Z
LAST-MODIFIED:20250707T191404Z
UID:112902-1768521600-1768607999@globemediagroup.ca
SUMMARY:CANADA'S PORTS
DESCRIPTION:A special feature on Canada’s ports
URL:https://globemediagroup.ca/opportunity/canadas-ports-2/
LOCATION:National
CATEGORIES:Business,Trade
END:VEVENT
BEGIN:VEVENT
DTSTART;VALUE=DATE:20251218
DTEND;VALUE=DATE:20251219
DTSTAMP:20260424T223819
CREATED:20240924T145603Z
LAST-MODIFIED:20240924T145706Z
UID:106022-1766016000-1766102399@globemediagroup.ca
SUMMARY:Canadian Energy
DESCRIPTION:With shifting global energy demands and regulatory landscapes\, this report will provide comprehensive insights to help industry leaders navigate these changes. \n 
URL:https://globemediagroup.ca/opportunity/canadian-energy-12/
LOCATION:National
CATEGORIES:Business,Resources, Utilities and Environment
END:VEVENT
BEGIN:VEVENT
DTSTART;VALUE=DATE:20251217
DTEND;VALUE=DATE:20251218
DTSTAMP:20260424T223819
CREATED:20250304T215410Z
LAST-MODIFIED:20250307T162358Z
UID:109183-1765929600-1766015999@globemediagroup.ca
SUMMARY:HR Strategies for a Thriving Workforce
DESCRIPTION:A special feature will explore the latest trends\, strategies\, and innovations transforming HR
URL:https://globemediagroup.ca/opportunity/hr-strategies-for-a-thriving-workforce-4/
LOCATION:National
CATEGORIES:Business
END:VEVENT
BEGIN:VEVENT
DTSTART;VALUE=DATE:20251215
DTEND;VALUE=DATE:20251216
DTSTAMP:20260424T223819
CREATED:20240924T140743Z
LAST-MODIFIED:20250829T145401Z
UID:105965-1765756800-1765843199@globemediagroup.ca
SUMMARY:Investing with ETFs
DESCRIPTION:This special report will offer valuable insights for Canadian investors\, helping them make informed decisions and optimize their ETF strategies. \n  \n 
URL:https://globemediagroup.ca/opportunity/investing-with-etfs4-12/
LOCATION:National
CATEGORIES:Business,Finance - B2C
END:VEVENT
BEGIN:VEVENT
DTSTART;VALUE=DATE:20251212
DTEND;VALUE=DATE:20251213
DTSTAMP:20260424T223819
CREATED:20251008T182822Z
LAST-MODIFIED:20251008T182822Z
UID:115655-1765497600-1765583999@globemediagroup.ca
SUMMARY:Innovation-driving-impact
DESCRIPTION:This special feature will highlight organizations\, institutions\, and industry leaders that are turning bold ideas into real-world impact
URL:https://globemediagroup.ca/opportunity/innovation-driving-impact/
LOCATION:National
CATEGORIES:Business
END:VEVENT
BEGIN:VEVENT
DTSTART;VALUE=DATE:20251212
DTEND;VALUE=DATE:20251213
DTSTAMP:20260424T223819
CREATED:20250923T165715Z
LAST-MODIFIED:20260127T185556Z
UID:115102-1765497600-1765583999@globemediagroup.ca
SUMMARY:Advancing Canadian Defence and Security
DESCRIPTION:A special feature will examine the modernization of Canadian defence capabilities — from cyber and aerospace to naval and AI-driven systems shaping the future of national and global security.
URL:https://globemediagroup.ca/opportunity/advancing-canadian-defence-and-security-2/
LOCATION:National
CATEGORIES:Business,Canada Strong
END:VEVENT
BEGIN:VEVENT
DTSTART;VALUE=DATE:20251211
DTEND;VALUE=DATE:20251212
DTSTAMP:20260424T223819
CREATED:20250509T171744Z
LAST-MODIFIED:20260127T185557Z
UID:110413-1765411200-1765497599@globemediagroup.ca
SUMMARY:TRADE FORWARD: Canada in the Global Market
DESCRIPTION:A look at global trade shifts\, and the opportunities for Canadian companies to adapt.
URL:https://globemediagroup.ca/opportunity/trade-forward-canada-in-the-global-market-4/
LOCATION:National
CATEGORIES:Business,Canada Strong
END:VEVENT
BEGIN:VEVENT
DTSTART;VALUE=DATE:20251211
DTEND;VALUE=DATE:20251212
DTSTAMP:20260424T223819
CREATED:20240924T142119Z
LAST-MODIFIED:20240924T142223Z
UID:105981-1765411200-1765497599@globemediagroup.ca
SUMMARY:Managing Your Wealth
DESCRIPTION:This special report series offers insightful wealth management strategies and expert guidance to empower Boomers\, Gen X\, and Millennial investors. \n  \n 
URL:https://globemediagroup.ca/opportunity/managing-your-wealth-12/
LOCATION:National
CATEGORIES:Business,Finance - B2C
END:VEVENT
BEGIN:VEVENT
DTSTART;VALUE=DATE:20251210
DTEND;VALUE=DATE:20251211
DTSTAMP:20260424T223819
CREATED:20250617T200637Z
LAST-MODIFIED:20250617T200637Z
UID:111955-1765324800-1765411199@globemediagroup.ca
SUMMARY:FUTURE OF DIGITAL INFRASTRUCTURE
DESCRIPTION:This special feature will explore the future of networking\, cloud\, and data centre solutions in Canada
URL:https://globemediagroup.ca/opportunity/future-of-digital-infrastructure-2/
LOCATION:National
CATEGORIES:Business
END:VEVENT
BEGIN:VEVENT
DTSTART;VALUE=DATE:20251206
DTEND;VALUE=DATE:20251207
DTSTAMP:20260424T223819
CREATED:20241128T191800Z
LAST-MODIFIED:20250210T155034Z
UID:107032-1764979200-1765065599@globemediagroup.ca
SUMMARY:Preparing the workforce of the future
DESCRIPTION:A print and digital special feature will highlight the critical initiatives and strategies shaping the future of work and fostering talent
URL:https://globemediagroup.ca/opportunity/preparing-the-workforce-of-the-future-4/
LOCATION:National
CATEGORIES:Business,Education
END:VEVENT
BEGIN:VEVENT
DTSTART;VALUE=DATE:20251205
DTEND;VALUE=DATE:20251206
DTSTAMP:20260424T223819
CREATED:20250707T192726Z
LAST-MODIFIED:20250707T192726Z
UID:112906-1764892800-1764979199@globemediagroup.ca
SUMMARY:WATER SECURITY
DESCRIPTION:A special feature on water security
URL:https://globemediagroup.ca/opportunity/water-security/
LOCATION:National
CATEGORIES:Business,Sustainability
END:VEVENT
BEGIN:VEVENT
DTSTART;VALUE=DATE:20251202
DTEND;VALUE=DATE:20251203
DTSTAMP:20260424T223819
CREATED:20250718T172653Z
LAST-MODIFIED:20250718T175038Z
UID:113725-1764633600-1764719999@globemediagroup.ca
SUMMARY:COMMERCIAL REAL ESTATE
DESCRIPTION:Forward-thinking companies are leveraging innovation to maximize changing commercial real estate dynamics. This report explores the trends and provides insights into how businesses can thrive.
URL:https://globemediagroup.ca/opportunity/commercial-real-estate/
LOCATION:National
CATEGORIES:Business,Real Estate
END:VEVENT
BEGIN:VEVENT
DTSTART;VALUE=DATE:20251202
DTEND;VALUE=DATE:20251203
DTSTAMP:20260424T223819
CREATED:20250218T193735Z
LAST-MODIFIED:20251010T205004Z
UID:108551-1764633600-1764719999@globemediagroup.ca
SUMMARY:Nuclear Power
DESCRIPTION:This special feature explores how Canada can leverage this expertise to become an energy superpower
URL:https://globemediagroup.ca/opportunity/nuclear-research-2/
LOCATION:National
CATEGORIES:Business,Resources, Utilities and Environment
END:VEVENT
BEGIN:VEVENT
DTSTART;VALUE=DATE:20251129
DTEND;VALUE=DATE:20251130
DTSTAMP:20260424T223819
CREATED:20250603T180856Z
LAST-MODIFIED:20250603T180856Z
UID:110746-1764374400-1764460799@globemediagroup.ca
SUMMARY:Sustainable Mining in Emerging Markets
DESCRIPTION:This feature will explore how Canadian-listed firms are integrating ESG frameworks into mining operations around the world.
URL:https://globemediagroup.ca/opportunity/sustainable-mining-in-emerging-markets/
LOCATION:National
CATEGORIES:Business
END:VEVENT
BEGIN:VEVENT
DTSTART;VALUE=DATE:20251129
DTEND;VALUE=DATE:20251130
DTSTAMP:20260424T223819
CREATED:20250522T155240Z
LAST-MODIFIED:20250522T155240Z
UID:110594-1764374400-1764460799@globemediagroup.ca
SUMMARY:Report on Business magazine – December 2025 issue
DESCRIPTION:Report on Business magazine is the trusted source for business leaders and ambitious Canadians making a difference.
URL:https://globemediagroup.ca/opportunity/report-on-business-magazine-december-2025-issue/
LOCATION:National
CATEGORIES:Automotive,Business,Finance - B2C,Luxury Living,Real Estate,Technology - B2B
END:VEVENT
BEGIN:VEVENT
DTSTART;VALUE=DATE:20251129
DTEND;VALUE=DATE:20251130
DTSTAMP:20260424T223819
CREATED:20250512T202708Z
LAST-MODIFIED:20250512T202708Z
UID:110423-1764374400-1764460799@globemediagroup.ca
SUMMARY:SMALL BUSINESS – POWERING LOCAL ECONOMIES
DESCRIPTION:This report is part of a 3-part series exploring trends\, tools\, and strategies for Canadian small businesses
URL:https://globemediagroup.ca/opportunity/small-business-powering-local-economies/
LOCATION:National
CATEGORIES:Business,Economic Development
END:VEVENT
BEGIN:VEVENT
DTSTART;VALUE=DATE:20251128
DTEND;VALUE=DATE:20251129
DTSTAMP:20260424T223819
CREATED:20250703T193602Z
LAST-MODIFIED:20250703T193839Z
UID:112861-1764288000-1764374399@globemediagroup.ca
SUMMARY:Strategic Sustainability Solutions
DESCRIPTION:A special report on strategic sustainability solutions
URL:https://globemediagroup.ca/opportunity/strategic-sustainability-solutions-2/
LOCATION:National
CATEGORIES:Business,Sustainability
END:VEVENT
BEGIN:VEVENT
DTSTART;VALUE=DATE:20251128
DTEND;VALUE=DATE:20251129
DTSTAMP:20260424T223819
CREATED:20241202T210431Z
LAST-MODIFIED:20241202T210431Z
UID:107084-1764288000-1764374399@globemediagroup.ca
SUMMARY:Strategies for sustainability
DESCRIPTION:A special feature will highlight impactful efforts and initiatives aimed at reducing the environmental footprint across sectors
URL:https://globemediagroup.ca/opportunity/strategies-for-sustainability-9/
LOCATION:National
CATEGORIES:Business,Education
END:VEVENT
BEGIN:VEVENT
DTSTART;VALUE=DATE:20251127
DTEND;VALUE=DATE:20251128
DTSTAMP:20260424T223819
CREATED:20250122T183257Z
LAST-MODIFIED:20250122T183257Z
UID:107915-1764201600-1764287999@globemediagroup.ca
SUMMARY:Next Generation of Farming
DESCRIPTION:A special feature will highlight the next generation of Canadian farmers and their essential role
URL:https://globemediagroup.ca/opportunity/next-generation-of-farming-2/
LOCATION:National
CATEGORIES:Business
END:VEVENT
BEGIN:VEVENT
DTSTART;VALUE=DATE:20251127
DTEND;VALUE=DATE:20251128
DTSTAMP:20260424T223819
CREATED:20240802T174148Z
LAST-MODIFIED:20240802T174148Z
UID:105367-1764201600-1764287999@globemediagroup.ca
SUMMARY:Innovative Recruitment Strategies
DESCRIPTION:A print and digital special feature will highlight into the most innovative recruitment strategies that are redefining how companies attract\, engage\, and retain top talent
URL:https://globemediagroup.ca/opportunity/innovative-recruitment-strategies-4/
CATEGORIES:Business
END:VEVENT
BEGIN:VEVENT
DTSTART;VALUE=DATE:20251126
DTEND;VALUE=DATE:20251127
DTSTAMP:20260424T223819
CREATED:20250617T200454Z
LAST-MODIFIED:20250617T200454Z
UID:111951-1764115200-1764201599@globemediagroup.ca
SUMMARY:FUTURE OF DIGITAL INFRASTRUCTURE
DESCRIPTION:This special feature will explore the future of networking\, cloud\, and data centre solutions in Canada
URL:https://globemediagroup.ca/opportunity/future-of-digital-infrastructure/
LOCATION:National
CATEGORIES:Business
END:VEVENT
BEGIN:VEVENT
DTSTART;VALUE=DATE:20251126
DTEND;VALUE=DATE:20251127
DTSTAMP:20260424T223819
CREATED:20250530T145136Z
LAST-MODIFIED:20260127T185558Z
UID:110694-1764115200-1764201599@globemediagroup.ca
SUMMARY:Advancing Canadian Defence and Security
DESCRIPTION:A special feature will examine the modernization of Canadian defence capabilities — from cyber and aerospace to naval and AI-driven systems shaping the future of national and global security.
URL:https://globemediagroup.ca/opportunity/advancing-canadian-defence-and-security-copy/
LOCATION:National
CATEGORIES:Business,Canada Strong
END:VEVENT
BEGIN:VEVENT
DTSTART;VALUE=DATE:20251126
DTEND;VALUE=DATE:20251127
DTSTAMP:20260424T223819
CREATED:20250210T193332Z
LAST-MODIFIED:20250210T193332Z
UID:108196-1764115200-1764201599@globemediagroup.ca
SUMMARY:Food security
DESCRIPTION:A special feature on food security
URL:https://globemediagroup.ca/opportunity/food-security-2/
LOCATION:National
CATEGORIES:Business
END:VEVENT
END:VCALENDAR