BEGIN:VCALENDAR
VERSION:2.0
PRODID:-//Globe Media Group - ECPv6.15.17.1//NONSGML v1.0//EN
CALSCALE:GREGORIAN
METHOD:PUBLISH
X-ORIGINAL-URL:https://globemediagroup.ca
X-WR-CALDESC:Events for Globe Media Group
REFRESH-INTERVAL;VALUE=DURATION:PT1H
X-Robots-Tag:noindex
X-PUBLISHED-TTL:PT1H
BEGIN:VTIMEZONE
TZID:America/Toronto
BEGIN:DAYLIGHT
TZOFFSETFROM:-0500
TZOFFSETTO:-0400
TZNAME:EDT
DTSTART:20250309T070000
END:DAYLIGHT
BEGIN:STANDARD
TZOFFSETFROM:-0400
TZOFFSETTO:-0500
TZNAME:EST
DTSTART:20251102T060000
END:STANDARD
BEGIN:DAYLIGHT
TZOFFSETFROM:-0500
TZOFFSETTO:-0400
TZNAME:EDT
DTSTART:20260308T070000
END:DAYLIGHT
BEGIN:STANDARD
TZOFFSETFROM:-0400
TZOFFSETTO:-0500
TZNAME:EST
DTSTART:20261101T060000
END:STANDARD
BEGIN:DAYLIGHT
TZOFFSETFROM:-0500
TZOFFSETTO:-0400
TZNAME:EDT
DTSTART:20270314T070000
END:DAYLIGHT
BEGIN:STANDARD
TZOFFSETFROM:-0400
TZOFFSETTO:-0500
TZNAME:EST
DTSTART:20271107T060000
END:STANDARD
END:VTIMEZONE
BEGIN:VEVENT
DTSTART;VALUE=DATE:20260423
DTEND;VALUE=DATE:20260424
DTSTAMP:20260424T211018
CREATED:20260130T153957Z
LAST-MODIFIED:20260130T153957Z
UID:117374-1776902400-1776988799@globemediagroup.ca
SUMMARY:KEEP IT CANADIAN
DESCRIPTION:Keep it Canadian is a special report that explores the economic and social benefits of choosing Canadian products\, services\, destinations\, and retailers.
URL:https://globemediagroup.ca/opportunity/keep-it-canadian-3/
CATEGORIES:Business,Canada Strong,Retail,Travel
END:VEVENT
BEGIN:VEVENT
DTSTART;VALUE=DATE:20260423
DTEND;VALUE=DATE:20260424
DTSTAMP:20260424T211018
CREATED:20251022T212503Z
LAST-MODIFIED:20251022T212943Z
UID:115936-1776902400-1776988799@globemediagroup.ca
SUMMARY:INNOVATIVE INSURANCE SOLUTIONS
DESCRIPTION:A report highlighting innovative insurance solutions
URL:https://globemediagroup.ca/opportunity/innovative-insurance-solutions-4/
LOCATION:National
CATEGORIES:Business
END:VEVENT
BEGIN:VEVENT
DTSTART;VALUE=DATE:20260422
DTEND;VALUE=DATE:20260423
DTSTAMP:20260424T211018
CREATED:20251213T090327Z
LAST-MODIFIED:20251213T090327Z
UID:116422-1776816000-1776902399@globemediagroup.ca
SUMMARY:Earth Day 2026
DESCRIPTION:This special feature will explore the leadership\, innovations and partnerships shaping a greener future during Earth Week.
URL:https://globemediagroup.ca/opportunity/earth-day-2026/
CATEGORIES:Business,Charity and Philanthropy,Resources, Utilities and Environment
END:VEVENT
BEGIN:VEVENT
DTSTART;VALUE=DATE:20260421
DTEND;VALUE=DATE:20260422
DTSTAMP:20260424T211018
CREATED:20260128T205537Z
LAST-MODIFIED:20260128T205537Z
UID:117313-1776729600-1776815999@globemediagroup.ca
SUMMARY:Advancing Canada’s Net Zero Goals
DESCRIPTION:This special feature will explore those initiatives aiming to advance Canada’s net zero goals
URL:https://globemediagroup.ca/opportunity/advancing-canadas-net-zero-goals-3/
CATEGORIES:Business,Resources, Utilities and Environment
END:VEVENT
BEGIN:VEVENT
DTSTART;VALUE=DATE:20260420
DTEND;VALUE=DATE:20260421
DTSTAMP:20260424T211018
CREATED:20251118T194730Z
LAST-MODIFIED:20251118T194730Z
UID:116125-1776643200-1776729599@globemediagroup.ca
SUMMARY:GENERATIONAL WEALTH
DESCRIPTION:  \nThis special feature will examine the planning strategies that support long-term financial resilience and smooth transitions between generations.
URL:https://globemediagroup.ca/opportunity/generational-wealth/
CATEGORIES:Business
END:VEVENT
BEGIN:VEVENT
DTSTART;VALUE=DATE:20260420
DTEND;VALUE=DATE:20260421
DTSTAMP:20260424T211018
CREATED:20250925T162449Z
LAST-MODIFIED:20250925T162449Z
UID:115244-1776643200-1776729599@globemediagroup.ca
SUMMARY:Life & Health & Financial Security
DESCRIPTION:This special feature explores the tools\, advice\, and resources that enable individuals and families to navigate challenges with confidence and resilience.
URL:https://globemediagroup.ca/opportunity/life-health-financial-security-4/
LOCATION:National
CATEGORIES:Business,Finance - B2B
END:VEVENT
BEGIN:VEVENT
DTSTART;VALUE=DATE:20260417
DTEND;VALUE=DATE:20260418
DTSTAMP:20260424T211018
CREATED:20260113T220024Z
LAST-MODIFIED:20260113T220024Z
UID:117064-1776384000-1776470399@globemediagroup.ca
SUMMARY:FOOD SECURITY
DESCRIPTION:This special feature will see how Canadian farmers and food producers are responding to  food security at home and around the world
URL:https://globemediagroup.ca/opportunity/food-security/
CATEGORIES:Business,Resources, Utilities and Environment
END:VEVENT
BEGIN:VEVENT
DTSTART;VALUE=DATE:20260417
DTEND;VALUE=DATE:20260418
DTSTAMP:20260424T211018
CREATED:20250929T162243Z
LAST-MODIFIED:20250929T162243Z
UID:115351-1776384000-1776470399@globemediagroup.ca
SUMMARY:FAMILY BUSINESS
DESCRIPTION: This special feature will examine the enduring relevance of family businesses\, the strategic challenges they face & the tools and insights that help position them for continued impact 
URL:https://globemediagroup.ca/opportunity/family-business-6/
LOCATION:National
CATEGORIES:Business,Finance - B2C
END:VEVENT
BEGIN:VEVENT
DTSTART;VALUE=DATE:20260415
DTEND;VALUE=DATE:20260416
DTSTAMP:20260424T211018
CREATED:20251224T040644Z
LAST-MODIFIED:20251224T040644Z
UID:116520-1776211200-1776297599@globemediagroup.ca
SUMMARY:Rare Earth Minerals
DESCRIPTION:This special feature will examine how investment\, innovation are shaping the future of rare earth development
URL:https://globemediagroup.ca/opportunity/rare-earth-minerals/
CATEGORIES:Business,Resources, Utilities and Environment
END:VEVENT
BEGIN:VEVENT
DTSTART;VALUE=DATE:20260409
DTEND;VALUE=DATE:20260410
DTSTAMP:20260424T211018
CREATED:20251002T144055Z
LAST-MODIFIED:20251002T144055Z
UID:115376-1775692800-1775779199@globemediagroup.ca
SUMMARY:FUTURE PROOFING SMALL BUSINESS
DESCRIPTION:Future Proofing Small Business is a report series to help entrepreneurs navigate uncertainty and identify opportunities.
URL:https://globemediagroup.ca/opportunity/future-proofing-small-business-6/
LOCATION:National
CATEGORIES:Business
END:VEVENT
BEGIN:VEVENT
DTSTART;VALUE=DATE:20260408
DTEND;VALUE=DATE:20260409
DTSTAMP:20260424T211018
CREATED:20260130T162849Z
LAST-MODIFIED:20260213T180342Z
UID:117387-1775606400-1775692799@globemediagroup.ca
SUMMARY:CANADA’S GLOBAL FOOD ADVANTAGE
DESCRIPTION:This report examines how Canadian agriculture\, protein production\, and seafood industries are meeting rising global demand
URL:https://globemediagroup.ca/opportunity/canadas-global-food-advantage-3/
CATEGORIES:Business,Canada Strong,Economic Development,Resources, Utilities and Environment
END:VEVENT
BEGIN:VEVENT
DTSTART;VALUE=DATE:20260330
DTEND;VALUE=DATE:20260331
DTSTAMP:20260424T211018
CREATED:20251224T104333Z
LAST-MODIFIED:20251224T104333Z
UID:116538-1774828800-1774915199@globemediagroup.ca
SUMMARY:GOLD & PRECIOUS METALS
DESCRIPTION:A special feature will examine the forces driving demand and the evolving role of gold and precious metals
URL:https://globemediagroup.ca/opportunity/gold-precious-metals-5/
CATEGORIES:Business,Resources, Utilities and Environment
END:VEVENT
BEGIN:VEVENT
DTSTART;VALUE=DATE:20260328
DTEND;VALUE=DATE:20260329
DTSTAMP:20260424T211018
CREATED:20250522T160137Z
LAST-MODIFIED:20250522T160137Z
UID:110601-1774656000-1774742399@globemediagroup.ca
SUMMARY:Report on Business magazine – April 2026 issue
DESCRIPTION:Report on Business magazine is the trusted source for business leaders and ambitious Canadians making a difference.
URL:https://globemediagroup.ca/opportunity/report-on-business-magazine-april-2026-issue/
LOCATION:National
CATEGORIES:Automotive,Business,Finance - B2C,Luxury Living,Technology - B2B
END:VEVENT
BEGIN:VEVENT
DTSTART;VALUE=DATE:20260328
DTEND;VALUE=DATE:20260329
DTSTAMP:20260424T211018
CREATED:20250514T200819Z
LAST-MODIFIED:20250514T200819Z
UID:110529-1774656000-1774742399@globemediagroup.ca
SUMMARY:CREDENTIALED FOR SUCCESS
DESCRIPTION:This report will help ambitious professionals align credentials with career goals and stay competitive in rapidly evolving industries.
URL:https://globemediagroup.ca/opportunity/credentialed-for-success-2/
LOCATION:National
CATEGORIES:Business,Education
END:VEVENT
BEGIN:VEVENT
DTSTART;VALUE=DATE:20260328
DTEND;VALUE=DATE:20260329
DTSTAMP:20260424T211018
CREATED:20250512T203249Z
LAST-MODIFIED:20250512T203249Z
UID:110427-1774656000-1774742399@globemediagroup.ca
SUMMARY:SMALL BUSINESS – NAVIGATING CHANGE
DESCRIPTION:This report is part of a 3-part series exploring trends\, tools\, and strategies for Canadian small businesses
URL:https://globemediagroup.ca/opportunity/small-business-navigating-change/
LOCATION:National
CATEGORIES:Business,Economic Development
END:VEVENT
BEGIN:VEVENT
DTSTART;VALUE=DATE:20260327
DTEND;VALUE=DATE:20260328
DTSTAMP:20260424T211018
CREATED:20251023T144308Z
LAST-MODIFIED:20251119T073024Z
UID:115950-1774569600-1774655999@globemediagroup.ca
SUMMARY:Strategic Wealth Management
DESCRIPTION:A special feature that will highlight how wealth management is evolving
URL:https://globemediagroup.ca/opportunity/strategic-wealth-management-3/
LOCATION:National
CATEGORIES:Business
END:VEVENT
BEGIN:VEVENT
DTSTART;VALUE=DATE:20260326
DTEND;VALUE=DATE:20260327
DTSTAMP:20260424T211018
CREATED:20260130T153834Z
LAST-MODIFIED:20260130T153834Z
UID:117370-1774483200-1774569599@globemediagroup.ca
SUMMARY:KEEP IT CANADIAN
DESCRIPTION:Keep it Canadian is a special report that explores the economic and social benefits of choosing Canadian products\, services\, destinations\, and retailers.
URL:https://globemediagroup.ca/opportunity/keep-it-canadian-2/
CATEGORIES:Business,Canada Strong,Retail,Travel
END:VEVENT
BEGIN:VEVENT
DTSTART;VALUE=DATE:20260323
DTEND;VALUE=DATE:20260324
DTSTAMP:20260424T211018
CREATED:20260203T111120Z
LAST-MODIFIED:20260203T111120Z
UID:117477-1774224000-1774310399@globemediagroup.ca
SUMMARY:strategies for sustainability
DESCRIPTION:This special feature will explore strategies for sustainability 
URL:https://globemediagroup.ca/opportunity/strategies-for-sustainability/
CATEGORIES:Business,Resources, Utilities and Environment
END:VEVENT
BEGIN:VEVENT
DTSTART;VALUE=DATE:20260323
DTEND;VALUE=DATE:20260324
DTSTAMP:20260424T211018
CREATED:20251119T061103Z
LAST-MODIFIED:20251119T061103Z
UID:116139-1774224000-1774310399@globemediagroup.ca
SUMMARY:Retirement Ready
DESCRIPTION:A special feature will explore the tools\, insights\, and expert guidance helping Canadians build a secure foundation for life after work.
URL:https://globemediagroup.ca/opportunity/retirement-ready/
CATEGORIES:Business,Finance - B2B,Finance - B2C
END:VEVENT
BEGIN:VEVENT
DTSTART;VALUE=DATE:20260320
DTEND;VALUE=DATE:20260321
DTSTAMP:20260424T211018
CREATED:20260113T224741Z
LAST-MODIFIED:20260113T224802Z
UID:117098-1773964800-1774051199@globemediagroup.ca
SUMMARY:SMART FARMING
DESCRIPTION:This special feature will explore how connected systems\, advanced analytics & digital tools are transforming agriculture
URL:https://globemediagroup.ca/opportunity/smart-farming-6/
CATEGORIES:Business,Resources, Utilities and Environment
END:VEVENT
BEGIN:VEVENT
DTSTART;VALUE=DATE:20260320
DTEND;VALUE=DATE:20260321
DTSTAMP:20260424T211018
CREATED:20250707T192913Z
LAST-MODIFIED:20250707T192913Z
UID:112910-1773964800-1774051199@globemediagroup.ca
SUMMARY:WATER SECURITY
DESCRIPTION:A special feature on water security
URL:https://globemediagroup.ca/opportunity/water-security-2/
LOCATION:National
CATEGORIES:Business,Sustainability
END:VEVENT
BEGIN:VEVENT
DTSTART;VALUE=DATE:20260318
DTEND;VALUE=DATE:20260319
DTSTAMP:20260424T211018
CREATED:20260126T185929Z
LAST-MODIFIED:20260126T185929Z
UID:117226-1773792000-1773878399@globemediagroup.ca
SUMMARY:CANADA’S GLOBAL FOOD ADVANTAGE
DESCRIPTION:This report examines how Canadian agriculture\, protein production\, and seafood industries are meeting rising global demand
URL:https://globemediagroup.ca/opportunity/canadas-global-food-advantage/
CATEGORIES:Business,Economic Development,Resources, Utilities and Environment
END:VEVENT
BEGIN:VEVENT
DTSTART;VALUE=DATE:20260318
DTEND;VALUE=DATE:20260319
DTSTAMP:20260424T211018
CREATED:20260107T185137Z
LAST-MODIFIED:20260107T185137Z
UID:116861-1773792000-1773878399@globemediagroup.ca
SUMMARY:AI in Canadian Healthcare
DESCRIPTION:This special report will showcase how Canadian innovators and health systems are using AI responsibly to enhance outcomes
URL:https://globemediagroup.ca/opportunity/ai-in-canadian-healthcare-2/
CATEGORIES:Business,Health,Medicine
END:VEVENT
BEGIN:VEVENT
DTSTART;VALUE=DATE:20260317
DTEND;VALUE=DATE:20260318
DTSTAMP:20260424T211018
CREATED:20251120T200459Z
LAST-MODIFIED:20251120T200459Z
UID:116177-1773705600-1773791999@globemediagroup.ca
SUMMARY:Healthy Aging
DESCRIPTION:A special feature will spotlight  cross-sector initiatives helping Canadians plan for a healthy\, secure\, and engaged later life.Strategically timed for National Seniors Day in October
URL:https://globemediagroup.ca/opportunity/healthy-aging-2/
CATEGORIES:Business,Charity and Philanthropy
END:VEVENT
BEGIN:VEVENT
DTSTART;VALUE=DATE:20260316
DTEND;VALUE=DATE:20260317
DTSTAMP:20260424T211018
CREATED:20251003T142831Z
LAST-MODIFIED:20251003T142831Z
UID:115450-1773619200-1773705599@globemediagroup.ca
SUMMARY:Investment Funds & Trends
DESCRIPTION:This special feature will examine how Canadians are adapting to new market realities\, highlighting the trends\, risks\, and innovations shaping capital management today.
URL:https://globemediagroup.ca/opportunity/investment-funds-trends-3/
LOCATION:National
CATEGORIES:Business,Finance - B2B
END:VEVENT
BEGIN:VEVENT
DTSTART;VALUE=DATE:20260311
DTEND;VALUE=DATE:20260312
DTSTAMP:20260424T211018
CREATED:20251022T205243Z
LAST-MODIFIED:20251022T205243Z
UID:115922-1773187200-1773273599@globemediagroup.ca
SUMMARY:PREPARING THE WORKFORCE OF THE FUTURE
DESCRIPTION:A report highlighting critical initiatives shaping the future of work
URL:https://globemediagroup.ca/opportunity/preparing-the-workforce-of-the-future-2/
LOCATION:National
CATEGORIES:Business
END:VEVENT
BEGIN:VEVENT
DTSTART;VALUE=DATE:20260311
DTEND;VALUE=DATE:20260312
DTSTAMP:20260424T211018
CREATED:20251002T184754Z
LAST-MODIFIED:20251002T184754Z
UID:115440-1773187200-1773273599@globemediagroup.ca
SUMMARY:RENEWABLE ENERGY IN CANADA: Next Generation Solutions
DESCRIPTION:This report explores how solar\, wind\, hydro\, and emerging technologies are transforming communities and industries across the country.
URL:https://globemediagroup.ca/opportunity/renewable-energy-in-canada-next-generation-solutions/
LOCATION:National
CATEGORIES:Business,Resources, Utilities and Environment
END:VEVENT
BEGIN:VEVENT
DTSTART;VALUE=DATE:20260309
DTEND;VALUE=DATE:20260310
DTSTAMP:20260424T211018
CREATED:20251003T145423Z
LAST-MODIFIED:20251003T145423Z
UID:115457-1773014400-1773100799@globemediagroup.ca
SUMMARY:Fraud Prevention & Cyber Security
DESCRIPTION:This special feature will highlight how organizations and consumers can  protect against both traditional fraud & emerging cyber risks in Fraud Prevention Month
URL:https://globemediagroup.ca/opportunity/fraud-prevention-cyber-security/
LOCATION:National
CATEGORIES:Business,Finance - B2B
END:VEVENT
BEGIN:VEVENT
DTSTART;VALUE=DATE:20260307
DTEND;VALUE=DATE:20260308
DTSTAMP:20260424T211018
CREATED:20250529T200428Z
LAST-MODIFIED:20250529T200428Z
UID:110673-1772841600-1772927999@globemediagroup.ca
SUMMARY:International Women’s Day
DESCRIPTION:A special feature timed strategically ahead of International Women’s Day will spotlight stories of leadership\, allyship\, and action\, showcasing the individuals and organizations creating
URL:https://globemediagroup.ca/opportunity/international-womens-day/
LOCATION:National
CATEGORIES:Business,Charity and Philanthropy
END:VEVENT
BEGIN:VEVENT
DTSTART;VALUE=DATE:20260306
DTEND;VALUE=DATE:20260307
DTSTAMP:20260424T211018
CREATED:20251020T143041Z
LAST-MODIFIED:20251020T143041Z
UID:115869-1772755200-1772841599@globemediagroup.ca
SUMMARY:International Women’s Day
DESCRIPTION:A special report celebrating International Women’s Day
URL:https://globemediagroup.ca/opportunity/international-womens-day-2/
LOCATION:National
CATEGORIES:Business,Charity and Philanthropy
END:VEVENT
END:VCALENDAR