BEGIN:VCALENDAR
VERSION:2.0
PRODID:-//Globe Media Group - ECPv6.15.17.1//NONSGML v1.0//EN
CALSCALE:GREGORIAN
METHOD:PUBLISH
X-WR-CALNAME:Globe Media Group
X-ORIGINAL-URL:https://globemediagroup.ca
X-WR-CALDESC:Events for Globe Media Group
REFRESH-INTERVAL;VALUE=DURATION:PT1H
X-Robots-Tag:noindex
X-PUBLISHED-TTL:PT1H
BEGIN:VTIMEZONE
TZID:America/Toronto
BEGIN:DAYLIGHT
TZOFFSETFROM:-0500
TZOFFSETTO:-0400
TZNAME:EDT
DTSTART:20250309T070000
END:DAYLIGHT
BEGIN:STANDARD
TZOFFSETFROM:-0400
TZOFFSETTO:-0500
TZNAME:EST
DTSTART:20251102T060000
END:STANDARD
BEGIN:DAYLIGHT
TZOFFSETFROM:-0500
TZOFFSETTO:-0400
TZNAME:EDT
DTSTART:20260308T070000
END:DAYLIGHT
BEGIN:STANDARD
TZOFFSETFROM:-0400
TZOFFSETTO:-0500
TZNAME:EST
DTSTART:20261101T060000
END:STANDARD
BEGIN:DAYLIGHT
TZOFFSETFROM:-0500
TZOFFSETTO:-0400
TZNAME:EDT
DTSTART:20270314T070000
END:DAYLIGHT
BEGIN:STANDARD
TZOFFSETFROM:-0400
TZOFFSETTO:-0500
TZNAME:EST
DTSTART:20271107T060000
END:STANDARD
END:VTIMEZONE
BEGIN:VEVENT
DTSTART;VALUE=DATE:20260327
DTEND;VALUE=DATE:20260525
DTSTAMP:20260419T201507
CREATED:20250925T175920Z
LAST-MODIFIED:20260127T185552Z
UID:115262-1774569600-1779667199@globemediagroup.ca
SUMMARY:Expanding Markets for Canadian Food
DESCRIPTION:This special feature will spotlight the strategies shaping Canada’s trade future and the opportunities available for the sector to thrive
URL:https://globemediagroup.ca/opportunity/expanding-markets-for-canadian-food-2/
LOCATION:National
CATEGORIES:Business,Canada Strong,Economic Development
END:VEVENT
BEGIN:VEVENT
DTSTART;VALUE=DATE:20260420
DTEND;VALUE=DATE:20260421
DTSTAMP:20260419T201507
CREATED:20250925T162449Z
LAST-MODIFIED:20250925T162449Z
UID:115244-1776643200-1776729599@globemediagroup.ca
SUMMARY:Life & Health & Financial Security
DESCRIPTION:This special feature explores the tools\, advice\, and resources that enable individuals and families to navigate challenges with confidence and resilience.
URL:https://globemediagroup.ca/opportunity/life-health-financial-security-4/
LOCATION:National
CATEGORIES:Business,Finance - B2B
END:VEVENT
BEGIN:VEVENT
DTSTART;VALUE=DATE:20260420
DTEND;VALUE=DATE:20260421
DTSTAMP:20260419T201507
CREATED:20251118T194730Z
LAST-MODIFIED:20251118T194730Z
UID:116125-1776643200-1776729599@globemediagroup.ca
SUMMARY:GENERATIONAL WEALTH
DESCRIPTION:  \nThis special feature will examine the planning strategies that support long-term financial resilience and smooth transitions between generations.
URL:https://globemediagroup.ca/opportunity/generational-wealth/
CATEGORIES:Business
END:VEVENT
BEGIN:VEVENT
DTSTART;VALUE=DATE:20260420
DTEND;VALUE=DATE:20260421
DTSTAMP:20260419T201507
CREATED:20260107T182821Z
LAST-MODIFIED:20260107T182821Z
UID:116857-1776643200-1776729599@globemediagroup.ca
SUMMARY:STEM to STEAM Education
DESCRIPTION:  \nA special report will explore the importance of STEM TO STEAM Education
URL:https://globemediagroup.ca/opportunity/stem-to-steam-education-2/
CATEGORIES:Education
END:VEVENT
BEGIN:VEVENT
DTSTART;VALUE=DATE:20260421
DTEND;VALUE=DATE:20260422
DTSTAMP:20260419T201507
CREATED:20260128T205537Z
LAST-MODIFIED:20260128T205537Z
UID:117313-1776729600-1776815999@globemediagroup.ca
SUMMARY:Advancing Canada’s Net Zero Goals
DESCRIPTION:This special feature will explore those initiatives aiming to advance Canada’s net zero goals
URL:https://globemediagroup.ca/opportunity/advancing-canadas-net-zero-goals-3/
CATEGORIES:Business,Resources, Utilities and Environment
END:VEVENT
BEGIN:VEVENT
DTSTART;VALUE=DATE:20260422
DTEND;VALUE=DATE:20260423
DTSTAMP:20260419T201507
CREATED:20251014T183611Z
LAST-MODIFIED:20251014T183611Z
UID:115734-1776816000-1776902399@globemediagroup.ca
SUMMARY:Global Getaways
DESCRIPTION:Global Getaways is a curated guide that shines a spotlight on captivating international destinations.
URL:https://globemediagroup.ca/opportunity/global-getaways-7/
LOCATION:National
CATEGORIES:Luxury Living,Travel
END:VEVENT
BEGIN:VEVENT
DTSTART;VALUE=DATE:20260422
DTEND;VALUE=DATE:20260423
DTSTAMP:20260419T201507
CREATED:20251213T090327Z
LAST-MODIFIED:20251213T090327Z
UID:116422-1776816000-1776902399@globemediagroup.ca
SUMMARY:Earth Day 2026
DESCRIPTION:This special feature will explore the leadership\, innovations and partnerships shaping a greener future during Earth Week.
URL:https://globemediagroup.ca/opportunity/earth-day-2026/
CATEGORIES:Business,Charity and Philanthropy,Resources, Utilities and Environment
END:VEVENT
BEGIN:VEVENT
DTSTART;VALUE=DATE:20260423
DTEND;VALUE=DATE:20260424
DTSTAMP:20260419T201507
CREATED:20251022T212503Z
LAST-MODIFIED:20251022T212943Z
UID:115936-1776902400-1776988799@globemediagroup.ca
SUMMARY:INNOVATIVE INSURANCE SOLUTIONS
DESCRIPTION:A report highlighting innovative insurance solutions
URL:https://globemediagroup.ca/opportunity/innovative-insurance-solutions-4/
LOCATION:National
CATEGORIES:Business
END:VEVENT
BEGIN:VEVENT
DTSTART;VALUE=DATE:20260423
DTEND;VALUE=DATE:20260424
DTSTAMP:20260419T201507
CREATED:20260130T153957Z
LAST-MODIFIED:20260130T153957Z
UID:117374-1776902400-1776988799@globemediagroup.ca
SUMMARY:KEEP IT CANADIAN
DESCRIPTION:Keep it Canadian is a special report that explores the economic and social benefits of choosing Canadian products\, services\, destinations\, and retailers.
URL:https://globemediagroup.ca/opportunity/keep-it-canadian-3/
CATEGORIES:Business,Canada Strong,Retail,Travel
END:VEVENT
BEGIN:VEVENT
DTSTART;VALUE=DATE:20260424
DTEND;VALUE=DATE:20260425
DTSTAMP:20260419T201507
CREATED:20251020T140745Z
LAST-MODIFIED:20251020T140745Z
UID:115862-1776988800-1777075199@globemediagroup.ca
SUMMARY:Hormones & HRT
DESCRIPTION:This special feature will explore how innovation\, research\, and education are transforming approaches to hormonal health. Timed ahead of World Hormone Day & World Menopause Day
URL:https://globemediagroup.ca/opportunity/hormones-hrt/
LOCATION:National
CATEGORIES:Charity and Philanthropy,Health
END:VEVENT
BEGIN:VEVENT
DTSTART;VALUE=DATE:20260424
DTEND;VALUE=DATE:20260425
DTSTAMP:20260419T201507
CREATED:20260309T181958Z
LAST-MODIFIED:20260309T181958Z
UID:118251-1776988800-1777075199@globemediagroup.ca
SUMMARY:The EV Rebound
DESCRIPTION:With changes in global and domestic landscapes\, this special report explores the potential road ahead for Electric Vehicles
URL:https://globemediagroup.ca/opportunity/the-ev-rebound/
CATEGORIES:Automotive,Resources, Utilities and Environment
END:VEVENT
BEGIN:VEVENT
DTSTART;VALUE=DATE:20260425
DTEND;VALUE=DATE:20260426
DTSTAMP:20260419T201507
CREATED:20250514T180718Z
LAST-MODIFIED:20250514T180718Z
UID:110500-1777075200-1777161599@globemediagroup.ca
SUMMARY:The AI Advantage
DESCRIPTION:This report will deliver practical insights for decision-makers navigating the opportunities and risks of an AI-powered economy. \n 
URL:https://globemediagroup.ca/opportunity/the-ai-advantage-2/
LOCATION:National
CATEGORIES:Business,Technology - B2B
END:VEVENT
BEGIN:VEVENT
DTSTART;VALUE=DATE:20260425
DTEND;VALUE=DATE:20260426
DTSTAMP:20260419T201507
CREATED:20250522T160457Z
LAST-MODIFIED:20250522T160457Z
UID:110604-1777075200-1777161599@globemediagroup.ca
SUMMARY:Report on Business magazine – May 2026 issue
DESCRIPTION:Report on Business magazine is the trusted source for business leaders and ambitious Canadians making a difference.
URL:https://globemediagroup.ca/opportunity/report-on-business-magazine-may-2026-issue/
LOCATION:National
CATEGORIES:Automotive,Business,Finance - B2C,Luxury Living,Technology - B2B
END:VEVENT
BEGIN:VEVENT
DTSTART;VALUE=DATE:20260425
DTEND;VALUE=DATE:20260426
DTSTAMP:20260419T201507
CREATED:20260131T055503Z
LAST-MODIFIED:20260131T055503Z
UID:117428-1777075200-1777161599@globemediagroup.ca
SUMMARY:BUILDING A STRONGER CANADA
DESCRIPTION:This special feature will explore how large-scale investments are reshaping Canada’s economy and positioning the country for long-term prosperity.
URL:https://globemediagroup.ca/opportunity/building-a-stronger-canada/
CATEGORIES:Business,Canada Strong,Economic Development,Resources, Utilities and Environment
END:VEVENT
BEGIN:VEVENT
DTSTART;VALUE=DATE:20260427
DTEND;VALUE=DATE:20260428
DTSTAMP:20260419T201507
CREATED:20260203T110119Z
LAST-MODIFIED:20260203T110119Z
UID:117457-1777248000-1777334399@globemediagroup.ca
SUMMARY:MAKE-A-WILL
DESCRIPTION:This special feature will aim to empower Canadians to make informed decisions about estate planning\, wealth transfer & legacy management\, strategically timed for Make-A-Will Month  \n 
URL:https://globemediagroup.ca/opportunity/make-a-will/
CATEGORIES:Charity and Philanthropy,Finance - B2B
END:VEVENT
BEGIN:VEVENT
DTSTART;VALUE=DATE:20260429
DTEND;VALUE=DATE:20260528
DTSTAMP:20260419T201507
CREATED:20250813T192147Z
LAST-MODIFIED:20250813T192147Z
UID:114579-1777420800-1779926399@globemediagroup.ca
SUMMARY:World Wish Month
DESCRIPTION:This special feature highlights April is World Wish Month – a celebration of courage\, compassion\, community & World Wish Day on April 29
URL:https://globemediagroup.ca/opportunity/world-wish-month-2/
LOCATION:National
CATEGORIES:Philanthropy
END:VEVENT
BEGIN:VEVENT
DTSTART;VALUE=DATE:20260430
DTEND;VALUE=DATE:20260501
DTSTAMP:20260419T201507
CREATED:20260113T152652Z
LAST-MODIFIED:20260113T152740Z
UID:116994-1777507200-1777593599@globemediagroup.ca
SUMMARY:ACCESS TO MEDICINE
DESCRIPTION:This special feature will highlight how organizations are advancing access to medicine
URL:https://globemediagroup.ca/opportunity/access-to-medicine-4/
CATEGORIES:Health,Medicine,Technology - B2B
END:VEVENT
BEGIN:VEVENT
DTSTART;VALUE=DATE:20260501
DTEND;VALUE=DATE:20260502
DTSTAMP:20260419T201507
CREATED:20251029T142200Z
LAST-MODIFIED:20251029T142200Z
UID:116009-1777593600-1777679999@globemediagroup.ca
SUMMARY:SPRING REAL ESTATE
DESCRIPTION:To help readers navigate the changing GTA real estate market\, Spring Real Estate will deliver timely insights and expert perspectives on real estate trends.
URL:https://globemediagroup.ca/opportunity/spring-real-estate-2/
LOCATION:National
CATEGORIES:Luxury Living,Real Estate
END:VEVENT
BEGIN:VEVENT
DTSTART;VALUE=DATE:20260504
DTEND;VALUE=DATE:20260505
DTSTAMP:20260419T201507
CREATED:20250613T161236Z
LAST-MODIFIED:20250613T161236Z
UID:111572-1777852800-1777939199@globemediagroup.ca
SUMMARY:Championing Caregivers
DESCRIPTION:A report timed for Spring to honour National Caregiver Day in April and National Family Caregivers Month in May\, this special feature will shine a light on
URL:https://globemediagroup.ca/opportunity/championing-caregivers-2/
LOCATION:National
CATEGORIES:Charity and Philanthropy,Health,Philanthropy
END:VEVENT
BEGIN:VEVENT
DTSTART;VALUE=DATE:20260504
DTEND;VALUE=DATE:20260505
DTSTAMP:20260419T201507
CREATED:20251007T200943Z
LAST-MODIFIED:20251007T200943Z
UID:115639-1777852800-1777939199@globemediagroup.ca
SUMMARY:SMALL BUSINESS TAX STRATEGY
DESCRIPTION:This special report will help small businesses navigate the complexities of tax filing season and also plan ahead for future financial health.
URL:https://globemediagroup.ca/opportunity/small-business-tax-strategy/
LOCATION:National
CATEGORIES:Business,Finance - B2B
END:VEVENT
BEGIN:VEVENT
DTSTART;VALUE=DATE:20260504
DTEND;VALUE=DATE:20260505
DTSTAMP:20260419T201507
CREATED:20251125T190259Z
LAST-MODIFIED:20251125T190449Z
UID:116197-1777852800-1777939199@globemediagroup.ca
SUMMARY:ESTATE PLANNING & LEGACY GIVING MONTH
DESCRIPTION:A special feature will explore how to navigate today’s estate planning and legacy giving
URL:https://globemediagroup.ca/opportunity/estate-planning-legacy-giving-month-2-2/
CATEGORIES:Business,Charity and Philanthropy
END:VEVENT
BEGIN:VEVENT
DTSTART;VALUE=DATE:20260505
DTEND;VALUE=DATE:20260506
DTSTAMP:20260419T201507
CREATED:20251002T151605Z
LAST-MODIFIED:20251002T153747Z
UID:115396-1777939200-1778025599@globemediagroup.ca
SUMMARY:BUILDING UP THE CONSTRUCTION INDUSTRY
DESCRIPTION:This special report examines the construction industry’s opportunities and challenges – from creating jobs and driving urban development to adopting technologies and advancing green building solutions
URL:https://globemediagroup.ca/opportunity/building-up-the-contruction-industry-2/
LOCATION:National
CATEGORIES:Business,Economic Development,Real Estate
END:VEVENT
BEGIN:VEVENT
DTSTART;VALUE=DATE:20260506
DTEND;VALUE=DATE:20260507
DTSTAMP:20260419T201507
CREATED:20250924T175743Z
LAST-MODIFIED:20250924T175743Z
UID:115190-1778025600-1778111999@globemediagroup.ca
SUMMARY:MANAGING YOUR WEALTH
DESCRIPTION:This special report series delivers expert insights and actionable strategies to help Boomers\, Gen X\, and Millennials protect\, grow\, and optimize their wealth.
URL:https://globemediagroup.ca/opportunity/managing-your-wealth-2/
LOCATION:National
CATEGORIES:Finance - B2C
END:VEVENT
BEGIN:VEVENT
DTSTART;VALUE=DATE:20260506
DTEND;VALUE=DATE:20260507
DTSTAMP:20260419T201507
CREATED:20251014T185225Z
LAST-MODIFIED:20260127T185551Z
UID:115749-1778025600-1778111999@globemediagroup.ca
SUMMARY:EXPLORE CANADA 2026
DESCRIPTION:This special report will feature curated articles on fascinating destinations\, events\, and trends\, highlighting the enduring appeal of travelling Canada.
URL:https://globemediagroup.ca/opportunity/explore-canada-2026/
LOCATION:National
CATEGORIES:Canada Strong,Luxury Living,Travel
END:VEVENT
BEGIN:VEVENT
DTSTART;VALUE=DATE:20260506
DTEND;VALUE=DATE:20260507
DTSTAMP:20260419T201507
CREATED:20260112T202516Z
LAST-MODIFIED:20260112T202516Z
UID:116984-1778025600-1778111999@globemediagroup.ca
SUMMARY:Smart Health and Home Solutions
DESCRIPTION:This special feature will explore how cutting-edge technologies enhance everyday living and healthcare outcomes.
URL:https://globemediagroup.ca/opportunity/smart-health-and-home-solutions-3/
CATEGORIES:Health,Technology - B2B
END:VEVENT
BEGIN:VEVENT
DTSTART;VALUE=DATE:20260506
DTEND;VALUE=DATE:20260507
DTSTAMP:20260419T201507
CREATED:20260306T204221Z
LAST-MODIFIED:20260306T204221Z
UID:118216-1778025600-1778111999@globemediagroup.ca
SUMMARY:RENEWABLE ENERGY IN CANADA
DESCRIPTION:
URL:https://globemediagroup.ca/opportunity/renewable-energy-in-canada/
END:VEVENT
BEGIN:VEVENT
DTSTART;VALUE=DATE:20260506
DTEND;VALUE=DATE:20260507
DTSTAMP:20260419T201507
CREATED:20260309T143943Z
LAST-MODIFIED:20260309T143943Z
UID:118227-1778025600-1778111999@globemediagroup.ca
SUMMARY:RENEWABLE ENERGY
DESCRIPTION:
URL:https://globemediagroup.ca/opportunity/renewable-energy/
END:VEVENT
BEGIN:VEVENT
DTSTART;VALUE=DATE:20260506
DTEND;VALUE=DATE:20260507
DTSTAMP:20260419T201507
CREATED:20260309T151522Z
LAST-MODIFIED:20260309T151522Z
UID:118234-1778025600-1778111999@globemediagroup.ca
SUMMARY:RENEWABLE ENERGY IN CANADA: Next Generation Solutions
DESCRIPTION:This report explores how solar\, wind\, hydro\, and emerging technologies are transforming communities and industries across the country.
URL:https://globemediagroup.ca/opportunity/renewable-energy-in-canada-next-generation-solutions-4/
LOCATION:National
CATEGORIES:Business,Resources, Utilities and Environment
END:VEVENT
BEGIN:VEVENT
DTSTART;VALUE=DATE:20260506
DTEND;VALUE=DATE:20260507
DTSTAMP:20260419T201507
CREATED:20260309T201507Z
LAST-MODIFIED:20260309T201507Z
UID:118267-1778025600-1778111999@globemediagroup.ca
SUMMARY:CONSTRUCTION TRADES
DESCRIPTION:This special feature will examine the workforce\, technologies shaping how Canada plans\, builds and maintains the infrastructure that support its future.
URL:https://globemediagroup.ca/opportunity/construction-trades-3/
CATEGORIES:Canada Strong,Resources, Utilities and Environment
END:VEVENT
BEGIN:VEVENT
DTSTART;VALUE=DATE:20260508
DTEND;VALUE=DATE:20260509
DTSTAMP:20260419T201507
CREATED:20251028T200412Z
LAST-MODIFIED:20260313T151709Z
UID:115999-1778198400-1778284799@globemediagroup.ca
SUMMARY:LUXURY REAL ESTATE
DESCRIPTION:This special report is a premium platform where advertisers can connect with readers looking for information on premium condos\, high-end townhomes\, and estate homes\, across the GTA.
URL:https://globemediagroup.ca/opportunity/luxury-real-estate/
LOCATION:National
CATEGORIES:Luxury Living,Real Estate
END:VEVENT
END:VCALENDAR